BEGIN:VCALENDAR
VERSION:2.0
PRODID:-//WS Events//DE
CALSCALE:GREGORIAN
BEGIN:VEVENT
UID:wsef-10278@locals-schwarzenbek.de
DTSTAMP:20260425T001822Z
DTSTART:20260404T110000Z
DTEND:20260404T170000Z
SUMMARY:Eisenbahnfreunde Osterfahrtag
DESCRIPTION:Am Ostersamstag\, 04. April 2026\, laden die Eisenbahnfreunde Schwarzenbek e. V. wieder zu ihrem traditionellen Osterfahrtag ein – ein bunter Tag rund um Modellbahnen\, Technik und Familienspaß. Von 11:00 bis 17:00 Uhr öffnet der Verein sein Vereinsgelände in der Röntgenstraße 24 und präsentiert auf über 900 qm seine beeindruckenden Modellbahnanlagen in den Spurweiten N und H0.\nMehrere Züge rollen durch liebevoll gestaltete Landschaften\, spannende Details und Miniaturwelten laden zum Staunen ein.\n\nAuch für das leibliche Wohl ist gesorgt:\n🍽️ Am Grill gibt es leckere Bratwürste und Steaks.\n🍰 In der Küche warten Kaffee\, Kuchen und frische Waffeln auf euch.\n🚂 Bei gutem Wetter fährt die Feldbahn im Außenbereich ihre Runden.\n🐰 Für die kleinen Besucher versteckt der Osterhase im Garten bunte Überraschungen und Süßigkeiten.\n🍬 Familienfreundlich &amp\; abwechslungsreich\n\nBringt Familie und Freunde mit – hier trifft Technikbegeisterung auf Frühlings- und Osterstimmung!
LOCATION:Schwarzenbek
URL:https://locals-schwarzenbek.de/events/eisenbahnfreunde-osterfahrtag-04-04-2026/
END:VEVENT
END:VCALENDAR
