BEGIN:VCALENDAR
VERSION:2.0
PRODID:-//WS Events//DE
CALSCALE:GREGORIAN
BEGIN:VEVENT
UID:wsef-10415@locals-schwarzenbek.de
DTSTAMP:20260425T001310Z
DTSTART:20260404T170000Z
DTEND:20260404T230000Z
SUMMARY:Osterfeuer
DESCRIPTION:Am Ostersamstag lädt die Freiwillige Feuerwehr Schwarzenbek wieder zu einem gemütlichen Osterabend am Gerätehaus ein. Statt eines großen Feuers sorgen mehrere Feuerkörbe für eine stimmungsvolle Atmosphäre – perfekt\, um gemeinsam einen schönen Abend zu verbringen.\n\nVon 17:00 bis 23:00 Uhr sind Besucherinnen und Besucher eingeladen\, gemeinsam einen schönen Abend zu verbringen – mit Feuer\, Gesprächen und guter Stimmung für die ganze Familie.\n\nRund um das Gelände gibt es einiges zu entdecken:\n🔥 Feuerkörbe statt großem Osterfeuer\n🌭 Bratwurst\, Pommes und Getränke für den kleinen und großen Hunger\n🎈 Hüpfburg für Kinder\n🚒 Kinder- und Jugendfeuerwehr mit Aktionen und Einblicken in ihre Arbeit\n\nOb mit Familie\, Freunden oder Nachbarn – kommt vorbei\, genießt die Atmosphäre am Feuer und verbringt einen entspannten Abend in Schwarzenbek.🐰💐
LOCATION:Schwarzenbek
URL:https://locals-schwarzenbek.de/events/osterfeuer-04-04-2026/
END:VEVENT
END:VCALENDAR
